BEGIN:VCALENDAR
VERSION:2.0
PRODID:-//GreizErLeben e. V. - ECPv5.1.4//NONSGML v1.0//EN
CALSCALE:GREGORIAN
METHOD:PUBLISH
X-WR-CALNAME:GreizErLeben e. V.
X-ORIGINAL-URL:https://greiz-er-leben.de
X-WR-CALDESC:Veranstaltungen für GreizErLeben e. V.
BEGIN:VTIMEZONE
TZID:Europe/Berlin
BEGIN:DAYLIGHT
TZOFFSETFROM:+0100
TZOFFSETTO:+0200
TZNAME:CEST
DTSTART:20220327T010000
END:DAYLIGHT
BEGIN:STANDARD
TZOFFSETFROM:+0200
TZOFFSETTO:+0100
TZNAME:CET
DTSTART:20221030T010000
END:STANDARD
END:VTIMEZONE
BEGIN:VEVENT
DTSTART;TZID=Europe/Berlin:20220910T110000
DTEND;TZID=Europe/Berlin:20220910T160000
DTSTAMP:20260423T100403
CREATED:20200719T064517Z
LAST-MODIFIED:20220828T093518Z
UID:5332-1662807600-1662825600@greiz-er-leben.de
SUMMARY:Greizer Suppenfest - Gemeinsam mehr erreichen!
DESCRIPTION:Wie in den vergangenen Jahren auch findet 2022 das nunmehr 6. Suppenfest statt. Verschiedene Vereine werden verschiedene Suppen aus verschiedenen Ländern kochen und anbieten. \n11:00 Uhr Eröffnung Suppenfest mit dem Greizer Fanfarenzug\n14:00 Uhr Auftritt der Kinder des Kindergartens am Sommerbad\n14:30 Uhr Auftritt der Kindergarde des Faschingsvereins\n15:30 Uhr Bekanntgabe Suppenkönig\nEs gibt auch Kaffee und Kuchen. \nTeilnehmende Vereine:\nDiakonieverein Carolinenfeld e.V.\n1. FC Greiz\nFörderverein Kita am Sommerbad e.V.\nVolkssolidarität Greiz e.V.\nGreizer Faschingsgesellschaft e.V.\nGreizer Theaterherbst e.V.\nTheatergruppe KleinAufTheater\nWeil wir Greiz lieben e.V.\nFotoclub Greiz e.V.\nJVA Hohenleuben\nKinder- und Jugendverein „Römer“ Zeulenroda-Triebes e.V.\nFanfarenzug Greiz e.V.\nTanzkreis Grün-Weiß Greiz e.V.\nPeppermints e.V.\nFischereiverein “Goldene Aue” e.V.\nLebenshilfe Greiz e.V. \n  \n
URL:https://greiz-er-leben.de/event/3-greizer-suppenfest/
LOCATION:Schloßgarten Greiz\, Greiz\, 07973\, Deutschland
CATEGORIES:Veranstaltungen
ATTACH;FMTTYPE=image/jpeg:https://greiz-er-leben.de/wp-content/uploads/2020/07/suppenfest.jpg
ORGANIZER;CN="GreizErLeben%20e.V.":MAILTO:Greizerleben@gmail.com
END:VEVENT
END:VCALENDAR