BEGIN:VCALENDAR
VERSION:2.0
PRODID:-//GreizErLeben e. V. - ECPv5.1.4//NONSGML v1.0//EN
CALSCALE:GREGORIAN
METHOD:PUBLISH
X-WR-CALNAME:GreizErLeben e. V.
X-ORIGINAL-URL:https://greiz-er-leben.de
X-WR-CALDESC:Veranstaltungen für GreizErLeben e. V.
BEGIN:VTIMEZONE
TZID:Europe/Berlin
BEGIN:DAYLIGHT
TZOFFSETFROM:+0100
TZOFFSETTO:+0200
TZNAME:CEST
DTSTART:20180325T010000
END:DAYLIGHT
BEGIN:STANDARD
TZOFFSETFROM:+0200
TZOFFSETTO:+0100
TZNAME:CET
DTSTART:20181028T010000
END:STANDARD
END:VTIMEZONE
BEGIN:VEVENT
DTSTART;TZID=Europe/Berlin:20180106T160000
DTEND;TZID=Europe/Berlin:20180106T220000
DTSTAMP:20260419T150745
CREATED:20180104T212920Z
LAST-MODIFIED:20180104T212920Z
UID:4861-1515254400-1515276000@greiz-er-leben.de
SUMMARY:Greizer Winterdorf mit dem "Fischereiverein Goldene Aue e.V."
DESCRIPTION:Am kommenden Wochenende dürfen wir einen Stand im Greizer Winterdorf betreiben. Und was wird es wohl am Stand von begeisterten Anglern geben? Natürlich Fisch;-) Am 05. und 06. 01.18 gibt es neben verschiedener Fischsemmeln und geräuchertem Aal\, Schmidts Fischsuppe aus einheimischen Fischarten. Am Sonntag (07.01.18) gibt es außerdem Popp´s Fischsoljanke nach einem Rügener Rezept. Wir würden uns über euer Kommen freuen. \nVielen Dank für diese Gelegenheit an die BI „Weil wir Greiz lieben“! \n  \nPetri Heil \nDie Mitglieder des „Fischereiverein Goldene Aue e.V.“ \n
URL:https://greiz-er-leben.de/event/greizer-winterdorf-mit-dem-fischereiverein-goldene-aue-e-v-2/
LOCATION:Goethepark Greiz\, Poststraße 4\, Greiz\, 07972\, Deutschland
CATEGORIES:Veranstaltung des "Weil wir Greiz lieben e.V.",Veranstaltung des Fischereivereins "Goldene Aue e.V.",Veranstaltungen
ATTACH;FMTTYPE=image/jpeg:https://greiz-er-leben.de/wp-content/uploads/2018/01/fischerfest2017-1-15.jpg
ORGANIZER;CN="BI%20Weil%20wir%20Greiz%20lieben%20e.V.":MAILTO:th.hoensch@weilwirgreizlieben.de
END:VEVENT
END:VCALENDAR