BEGIN:VCALENDAR
VERSION:2.0
PRODID:-//GreizErLeben e. V. - ECPv5.1.4//NONSGML v1.0//EN
CALSCALE:GREGORIAN
METHOD:PUBLISH
X-WR-CALNAME:GreizErLeben e. V.
X-ORIGINAL-URL:https://greiz-er-leben.de
X-WR-CALDESC:Veranstaltungen für GreizErLeben e. V.
BEGIN:VTIMEZONE
TZID:Europe/Berlin
BEGIN:DAYLIGHT
TZOFFSETFROM:+0100
TZOFFSETTO:+0200
TZNAME:CEST
DTSTART:20170326T010000
END:DAYLIGHT
BEGIN:STANDARD
TZOFFSETFROM:+0200
TZOFFSETTO:+0100
TZNAME:CET
DTSTART:20171029T010000
END:STANDARD
BEGIN:DAYLIGHT
TZOFFSETFROM:+0100
TZOFFSETTO:+0200
TZNAME:CEST
DTSTART:20180325T010000
END:DAYLIGHT
BEGIN:STANDARD
TZOFFSETFROM:+0200
TZOFFSETTO:+0100
TZNAME:CET
DTSTART:20181028T010000
END:STANDARD
END:VTIMEZONE
BEGIN:VEVENT
DTSTART;TZID=Europe/Berlin:20171222T160000
DTEND;TZID=Europe/Berlin:20180114T200000
DTSTAMP:20260419T121438
CREATED:20171215T093951Z
LAST-MODIFIED:20171227T164449Z
UID:4849-1513958400-1515960000@greiz-er-leben.de
SUMMARY:Greizer Winterdorf
DESCRIPTION:Die BI – Weil wir Greiz lieben möchte den offenen und ehrlichen Dialog zwischen den Menschen in Greiz fördern. Ein wichtiger Bestandteil unserer Stadt sind die Vereine\, die Menschen\, die sich ehrenamtlich in Vereinen engagieren. \nAus dem Konzept:\nMit dem Winterdorf in der Zeit vom 22.12.2017 bis 14.01.2018 an der Vogtlandhalle möchte die BI Weil wir Greiz lieben e.V. für Stadt und Region den etwas anderen Weihnachtsmarkt schaffen.\nDen Besucher erwartet die gleiche gemütliche Atmosphäre\, aber mit einem unvergleichlichen neuen Ansatz – organisiert und betrieben von den Vereinen und ehrenamtlichen Bürgern der Stadt Greiz.\nAls Zusatzangebot im Rahmen der Feiertage will die BI die Vereine der Stadt Greiz dazu ermutigen sich zu präsentieren\, aber auch mit ihren Angeboten die Stadt Greiz zu bereichern.\nDie Angebote können die kulturelle\, kulinarische und kreative Vielfalt der Stadt Greiz widerspiegeln.\nDie teilnehmenden Vereine betreiben in Eigenregie nach den Vorgaben der BI die Präsentations- bzw. Verkaufsstände oder -buden. Mehrere Vereine können sich eine Bude teilen.\nDer Betrieb der Buden ist an die Spielzeiten der Vogtlandhalle angelehnt\, kann aber auch an spielfreien Tagen für einen kulturellen Mehrwert sorgen. Auf einer in das Budenensemble integrierten Bühne können die Vereine ein kulturelles Programm darbieten. Aber auch Künstler\, Bands\, Theatergruppen aus der Region sollen die Möglichkeit bekommen sich zu präsentieren. Auf diese Weise möchte die BI auch Gäste aus den umliegenden Ortschaften anlocken. \n22.12. 18-22 Uhr \n23.12. 16-22 Uhr u.a. mit Besuch der Weihnachtsfrau  \n25.12. 14-22 Uhr u.a. mit JazzWerk Performence\n \n29.12. 18-22 Uhr u.a. mit 1. Winterdorfcup                            \n30.12. 16-22 Uhr u.a. mit Historischer Rückblick                \n31.12. 16-02 Uhr u.a. mit Dinner for One / Live                                                                                         \n05.01. 18-22 Uhr \n06.01. 16-22 Uhr abends Konzert mit Ralf Dietsch \n07.01. 14-20 Uhr 26.12. 14-20Uhr \n12.01. 18-22 Uhr \n13.01. 16-02 Uhr abends Aprös-Ski Party \n14.01. 14-20Uhr 01.01. 14-20 Uhr \n
URL:https://greiz-er-leben.de/event/greizer-winterdorf/
LOCATION:Goethepark Greiz\, Poststraße 4\, Greiz\, 07972\, Deutschland
CATEGORIES:Veranstaltung des "Weil wir Greiz lieben e.V."
ATTACH;FMTTYPE=image/jpeg:https://greiz-er-leben.de/wp-content/uploads/2017/12/Winterdorf-Fotolia_57662971_S.jpg
END:VEVENT
END:VCALENDAR