BEGIN:VCALENDAR
VERSION:2.0
PRODID:-//GreizErLeben e. V. - ECPv5.1.4//NONSGML v1.0//EN
CALSCALE:GREGORIAN
METHOD:PUBLISH
X-WR-CALNAME:GreizErLeben e. V.
X-ORIGINAL-URL:https://greiz-er-leben.de
X-WR-CALDESC:Veranstaltungen für GreizErLeben e. V.
BEGIN:VTIMEZONE
TZID:Europe/Berlin
BEGIN:DAYLIGHT
TZOFFSETFROM:+0100
TZOFFSETTO:+0200
TZNAME:CEST
DTSTART:20170326T010000
END:DAYLIGHT
BEGIN:STANDARD
TZOFFSETFROM:+0200
TZOFFSETTO:+0100
TZNAME:CET
DTSTART:20171029T010000
END:STANDARD
END:VTIMEZONE
BEGIN:VEVENT
DTSTART;TZID=Europe/Berlin:20171127T190000
DTEND;TZID=Europe/Berlin:20171127T203000
DTSTAMP:20260421T083207
CREATED:20171029T092837Z
LAST-MODIFIED:20171123T130221Z
UID:4753-1511809200-1511814600@greiz-er-leben.de
SUMMARY:Infoveranstaltung - Versicherungsschutz im Verein
DESCRIPTION:Es wird Herr Hans-Rainer Gronwald von der BD Nürnberg der Zurichgruppe über die verschiedenen Risiken im Vereinsleben und Haftungsfragen von Vorständen informieren. Themen sind z.B.:\n\n\nHaftpflichtversicherung für Vereine\n\n\nVeranstaltungshaftpflichtversicherung für Vereine\n\n\nVermögensschadenhaftpflicht für Vereine\n\n\nVermögensschadenhaftpflicht für Vereinsvorstände (D&&O Versicherung)\n\n\nStrafrechtsschutzversicherung für Vereine\n\n\nDie Veranstaltung wird keine Versicherungsschulung sein\, sondern den Teilnehmern einen Abriss dessen darstellen\, was es an Haftung und Absicherungsmöglichkeiten gibt\, untermauert mit Beispielen. Ziel soll sein\, das Risikobewusstsein der Teilnehmer zu erhöhen und eine möglichst rege Diskussion auszulösen!\nDie Veranstaltung ist für Mitglieder und Mitgliedsvereine des GreizErLeben e.V. kostenfrei. Andere zahlen einen Unkostenbeitrag von 5\,00 € pro Verein (bis max. 2 Teilnehmer pro Verein\, jede weitere Person 5\,00€)\nEine Anmeldung ist wegen der Platzplanung bis 25.11.2017 möglich! Spätere Anmeldungen bitte nur über 0171-7374050!\nHier geht’s zu Anmeldung\n
URL:https://greiz-er-leben.de/event/infoveranstaltung-versicherungsschutz-im-verein/
LOCATION:Gaststätte Reißberg 04\, Theodor-Körner-Straße 12\, Greiz\, 07973\, Deutschland
CATEGORIES:Veranstaltungen
ATTACH;FMTTYPE=image/jpeg:https://greiz-er-leben.de/wp-content/uploads/2017/10/Infoveranstaltung.jpg
END:VEVENT
END:VCALENDAR