BEGIN:VCALENDAR
VERSION:2.0
PRODID:-//GreizErLeben e. V. - ECPv5.1.4//NONSGML v1.0//EN
CALSCALE:GREGORIAN
METHOD:PUBLISH
X-WR-CALNAME:GreizErLeben e. V.
X-ORIGINAL-URL:https://greiz-er-leben.de
X-WR-CALDESC:Veranstaltungen für GreizErLeben e. V.
BEGIN:VTIMEZONE
TZID:Europe/Berlin
BEGIN:DAYLIGHT
TZOFFSETFROM:+0100
TZOFFSETTO:+0200
TZNAME:CEST
DTSTART:20170326T010000
END:DAYLIGHT
BEGIN:STANDARD
TZOFFSETFROM:+0200
TZOFFSETTO:+0100
TZNAME:CET
DTSTART:20171029T010000
END:STANDARD
END:VTIMEZONE
BEGIN:VEVENT
DTSTART;TZID=Europe/Berlin:20170430T190000
DTEND;TZID=Europe/Berlin:20170430T230000
DTSTAMP:20260421T094621
CREATED:20170216T074033Z
LAST-MODIFIED:20170311T095154Z
UID:3935-1493578800-1493593200@greiz-er-leben.de
SUMMARY:Walpurgisnacht für Kinder
DESCRIPTION:Die Hexen kommen nach Elsterberg.\nEin Mitmachspiel für Groß und Klein. \n
URL:https://greiz-er-leben.de/event/walpurgisnacht-fuer-kinder/
LOCATION:Burgruine Elsterberg\, Vorderer Schloßberg 4\, Elsterberg\, 07985\, Deutschland
CATEGORIES:Veranstaltung des Mode- und Showteams,Veranstaltungen
ATTACH;FMTTYPE=image/jpeg:https://greiz-er-leben.de/wp-content/uploads/2017/02/Walpurgis.jpg
END:VEVENT
END:VCALENDAR