BEGIN:VCALENDAR
VERSION:2.0
PRODID:-//GreizErLeben e. V. - ECPv5.1.4//NONSGML v1.0//EN
CALSCALE:GREGORIAN
METHOD:PUBLISH
X-WR-CALNAME:GreizErLeben e. V.
X-ORIGINAL-URL:https://greiz-er-leben.de
X-WR-CALDESC:Veranstaltungen für GreizErLeben e. V.
BEGIN:VTIMEZONE
TZID:Europe/Berlin
BEGIN:DAYLIGHT
TZOFFSETFROM:+0100
TZOFFSETTO:+0200
TZNAME:CEST
DTSTART:20240331T010000
END:DAYLIGHT
BEGIN:STANDARD
TZOFFSETFROM:+0200
TZOFFSETTO:+0100
TZNAME:CET
DTSTART:20241027T010000
END:STANDARD
END:VTIMEZONE
BEGIN:VEVENT
DTSTART;TZID=Europe/Berlin:20240807T183000
DTEND;TZID=Europe/Berlin:20240807T200000
DTSTAMP:20260419T133824
CREATED:20240704T055421Z
LAST-MODIFIED:20240704T055421Z
UID:6329-1723055400-1723060800@greiz-er-leben.de
SUMMARY:2. Vereinsmeiertreffen mit Gast der DSEE
DESCRIPTION:Nach dem ersten “Vereinsmeiertreffen” Anfang dieses Jahres wurde nicht nur die Weiterführung von den Vereinen gewünscht\, sondern auch die Ergänzung mit Informationen zum Vereinsleben. Seit einigen Jahren pflegt der GreizErLeben e.V. Kontakt zur DSEE |www.d-s-e-e.de| (Deutsche Stiftung für Engagement und Ehrenamt)\, welche nicht nur Fördermöglichkeiten für Vereine bietet\, sondern auch sehr viel Wissen zu praktischen Fragen rund um das Vereinsleben vermittelt — sei es durch Veranstaltungen\, Webinare oder Infobroschüren.Hannes Jähnert von der DSEE\, der aus Ost-Thüringen stammt\, wird an diesem Abend die DSEE und ihre zahlreichen Angebote vorstellen. Einen Schwerpunkt legt er dabei auf Mitglieder- und Nachwuchsgewinnung sowie die verschiedenen Förderprogramme für Vereine.Im Anschluss ist ganz nach dem Motto des “Vereinsmeiertreffen” die Diskussionsrunde zu Fragen und Herausforderungen von Vereinen vorgesehen.Aufgrund der begrenzten Platzkapazität ist eine Anmeldung (max. 2 Personen pro Verein) über greizerleben@gmail.com oder https://easyverein.com/public/GELeV/calendar/200401479 notwendig. \n\n
URL:https://greiz-er-leben.de/event/2-vereinsmeiertreffen-mit-gast-der-dsee/
CATEGORIES:Öffentliche Zusammenkunft
ATTACH;FMTTYPE=image/jpeg:https://greiz-er-leben.de/wp-content/uploads/2024/07/Ehrenamt-scaled.jpg
ORGANIZER;CN="GreizErLeben%20e.V.":MAILTO:Greizerleben@gmail.com
END:VEVENT
END:VCALENDAR